BEGIN:VCALENDAR
VERSION:2.0
PRODID:-//Deutscher Weiterbildungstag - ECPv6.15.20//NONSGML v1.0//EN
CALSCALE:GREGORIAN
METHOD:PUBLISH
X-ORIGINAL-URL:https://deutscher-weiterbildungstag.de
X-WR-CALDESC:Veranstaltungen für Deutscher Weiterbildungstag
REFRESH-INTERVAL;VALUE=DURATION:PT1H
X-Robots-Tag:noindex
X-PUBLISHED-TTL:PT1H
BEGIN:VTIMEZONE
TZID:Europe/Berlin
BEGIN:DAYLIGHT
TZOFFSETFROM:+0100
TZOFFSETTO:+0200
TZNAME:CEST
DTSTART:20220327T010000
END:DAYLIGHT
BEGIN:STANDARD
TZOFFSETFROM:+0200
TZOFFSETTO:+0100
TZNAME:CET
DTSTART:20221030T010000
END:STANDARD
BEGIN:DAYLIGHT
TZOFFSETFROM:+0100
TZOFFSETTO:+0200
TZNAME:CEST
DTSTART:20230326T010000
END:DAYLIGHT
BEGIN:STANDARD
TZOFFSETFROM:+0200
TZOFFSETTO:+0100
TZNAME:CET
DTSTART:20231029T010000
END:STANDARD
BEGIN:DAYLIGHT
TZOFFSETFROM:+0100
TZOFFSETTO:+0200
TZNAME:CEST
DTSTART:20240331T010000
END:DAYLIGHT
BEGIN:STANDARD
TZOFFSETFROM:+0200
TZOFFSETTO:+0100
TZNAME:CET
DTSTART:20241027T010000
END:STANDARD
END:VTIMEZONE
BEGIN:VEVENT
DTSTART;TZID=Europe/Berlin:20230926T100000
DTEND;TZID=Europe/Berlin:20230926T120000
DTSTAMP:20260421T112608
CREATED:20230730T153538Z
LAST-MODIFIED:20230815T143425Z
UID:10000035-1695722400-1695729600@deutscher-weiterbildungstag.de
SUMMARY:Beratungstag Beruflicher Neustart 26.09.2023
DESCRIPTION:Planen Sie Ihren beruflichen Neustart mit Bildungsgutschein?\nDann nutzen Sie unseren Beratungstag am 26.09.2023\, 10 bis 12 Uhr. Wir informieren Sie zu den möglichen Qualifizierungen mit Bildungsgutschein und beraten Sie zu Ihren nächsten beruflichen Schritten. Bringen Sie Ihre Fragen und einen kleinen Hunger mit. Wir sorgen mit Brötchen\, Kaffee und Kuchen für eine entspannte Atmosphäre. \nGute Gründe für einen Neustart im Beruf\nDie Gründe sind sehr unterschiedlich\, warum man beruflich neu starten möchte oder sich neu orientiert: \n\nStark geänderte Anforderungen im Beruf\nPersönliche Gründe oder die familiäre Situation\nWandel im Arbeitsmarkt\n\nGanz oft haben Sie wenige Alternativen dazu. Und natürlich entstehen bei dieser Entscheidung viele Fragen und Unsicherheiten: Ist es der neue Beruf besser? Kann ich das schaffen? Wie ist der Wechsel zurück auf die Schulbank oder in die Lehre? Nutzt mir die Qualifizierung wirklich\, um einen guten Job zu finden? \nDer berufliche Neustart ist immer das Ergebnis eines Prozesses\, in dem Pro und Kontras sorgfältig abgewogen werden. \nZuverlässige Informationen zu haben\, ist dafür super wichtig. Aber Sie brauchen auch ein gutes Bauchgefühl und eine Portion Mut\, um diesen Schritt zu gehen. Nutzen Sie die Beratungsangebote\, die sich Ihnen bieten \nWas auch immer Ihre Gründe sind: Nehmen Sie sich die Zeit\, um in Ruhe die Entscheidung zu treffen. Nutzen alle Angebote\, um sich umfassend zu informieren und zu den beruflichen Alternativen beraten zu lassen. \nIhre Ansprechpartnerinnen und Ansprechpartner der Agentur für Arbeit\, des Jobcenters oder Ihrer Rentenversicherung sind an Ihrer Seite und begleiten Sie in den Prozess. \nAuch wir als Bildungszentrum der IHK zu Leipzig möchten Ihnen diese Möglichkeit geben. Wir geben Ihnen Einblick\, wie eine Umschulung oder eine berufliche Qualifizierung bei uns abläuft. Unser Ausbildungskonzept verknüpft Theorie und Praxis eng. Das können Sie in unseren Werkstätten und Ausbildungsräumen erleben. \nGut informiert den beruflichen Neustart planen\nSie sind herzlich eingeladen zur Beratung im Neujahr am 26.09.2023. Wir informieren und beraten Sie zu kaufmännischen Qualifizierungen sowie zu Umschulungen in folgenden Bereichen: \n\nKaufmännische Qualifizierung\nElektrotechnik / Mechatronik\nMetalltechnik\nLogistik\nBewachungsgewerbe\n\nEin echter Vorteil: Für alle Fragen sind unsere Ausbilder für die Umschulungen und Ansprechpartner*innen der Qualifikationen vorort. Gerne können Sie auch einen Blick in unsere Werkstätten und Technik-Räume werfen. \nEin weiterer Vorteil:\nEs gibt Brötchen\, Kaffee und Kuchen. Planen Sie also in entspannter Atmosphäre Ihren beruflichen Neustart im Jahr 2023. \nWir freuen uns auf Ihr Kommen! Bitte melden Sie sich für den Beratungstag an. \nPraxisorientiert und kompakt: Beruflicher Neustart bei der ZAW Leipzig\nBei der ZAW Leipzig bereiten wir unsere Teilnehmer und Teilnehmerinnen bestens auf den zukünftigen Berufseinsatz vor. Unsere Umschulungen verzahnen Theorie und Praxis sehr eng. Das Gelernte kann sofort ausprobiert und in modern ausgestatteten Werkstätten angewendet werden. Die praktische Umsetzung ist dabei ein guter Maßstab\, wie es vorwärts geht. Die Mühe lohnt sich! Unsere Umschülerinnen und Umschüler schaffen die IHK-Prüfung mit guten Ergebnissen. Mit der fundierten Umschulung starten sie dann gut ausgebildet in ihren neuen Beruf. \n\nKontakt\nAlexander Schäfer\nZAW Zentrum für Aus- und Weiterbildung Leipzig GmbH\n01627751885\nalexander.schaefer@zaw-leipzig.de
URL:https://deutscher-weiterbildungstag.de/event/beratungstag-beruflicher-neustart-26-09-2023
LOCATION:ZAW Zentrum für Aus- und Weiterbildung Leipzig GmbH\, Am Ritterschlößchen 22\, Leipzig\, 07179
CATEGORIES:Beratung
END:VEVENT
END:VCALENDAR