BEGIN:VCALENDAR
VERSION:2.0
PRODID:-//Deutscher Weiterbildungstag - ECPv6.15.20//NONSGML v1.0//EN
CALSCALE:GREGORIAN
METHOD:PUBLISH
X-ORIGINAL-URL:https://deutscher-weiterbildungstag.de
X-WR-CALDESC:Veranstaltungen für Deutscher Weiterbildungstag
REFRESH-INTERVAL;VALUE=DURATION:PT1H
X-Robots-Tag:noindex
X-PUBLISHED-TTL:PT1H
BEGIN:VTIMEZONE
TZID:Europe/Berlin
BEGIN:DAYLIGHT
TZOFFSETFROM:+0100
TZOFFSETTO:+0200
TZNAME:CEST
DTSTART:20220327T010000
END:DAYLIGHT
BEGIN:STANDARD
TZOFFSETFROM:+0200
TZOFFSETTO:+0100
TZNAME:CET
DTSTART:20221030T010000
END:STANDARD
BEGIN:DAYLIGHT
TZOFFSETFROM:+0100
TZOFFSETTO:+0200
TZNAME:CEST
DTSTART:20230326T010000
END:DAYLIGHT
BEGIN:STANDARD
TZOFFSETFROM:+0200
TZOFFSETTO:+0100
TZNAME:CET
DTSTART:20231029T010000
END:STANDARD
BEGIN:DAYLIGHT
TZOFFSETFROM:+0100
TZOFFSETTO:+0200
TZNAME:CEST
DTSTART:20240331T010000
END:DAYLIGHT
BEGIN:STANDARD
TZOFFSETFROM:+0200
TZOFFSETTO:+0100
TZNAME:CET
DTSTART:20241027T010000
END:STANDARD
END:VTIMEZONE
BEGIN:VEVENT
DTSTART;TZID=Europe/Berlin:20231005T180000
DTEND;TZID=Europe/Berlin:20231005T210000
DTSTAMP:20260421T121735
CREATED:20230705T191056Z
LAST-MODIFIED:20230810T080342Z
UID:10000019-1696528800-1696539600@deutscher-weiterbildungstag.de
SUMMARY:Tipps und Tricks für Smartphone und Tablet
DESCRIPTION:Praxisorientierte Begleitung mit Ihrem Gerät vor Ort!\nSie benutzen ein Android-Smartphone oder Tablet? Und fragen sich\, wie Sie Ihr Gerät besser nutzen können? In diesem Kurs erhalten Sie hilfreiche Tipps für wichtige Einstellungen\, insbesondere unter dem Aspekt Datenschutz (Internet\, Cookies) und Datensicherheit (Passwörter\, Backup). Darüber hinaus bekommen Sie zahlreiche Tricks für den digitalen Alltag vermittelt – und hierbei darf auch das Thema „Cloud“ nicht fehlen. \nInformationen zum Anmeldeschluss:\nWir bitten Sie\, sich bis eine Woche vor Kursbeginn anzumelden.\nWenn die Mindestteilnehmerzahl erreicht ist und der Kurs sicher durchgeführt werden kann\, nehmen wir Ihre Anmeldung gerne kurzfristig entgegen. \nBitte beachten Sie:\nDamit alle an einem Kurs Beteiligten – die Kursleitung\, die vhs und auch Sie als Teilnehmende – planen können\, prüfen wir 5 Tage vor Kursbeginn\, ob die Mindestteilnehmerzahl erreicht ist. Ist das nicht der Fall\, behalten wir uns das Recht vor\, den Kurs abzusagen. Wir freuen uns daher über frühzeitige Anmeldungen. \n\nKontakt\nvhs Landkreis Konstanz e. V.\nKirstin Meditz\n07531/5981-31\nE-Mail schreiben\nWebsite ansehen
URL:https://deutscher-weiterbildungstag.de/event/tipps-und-tricks-fuer-smartphone-und-tablet
LOCATION:vhs in Konstanz\, EDV-Raum 2.0\, Katzgasse 7\, Konstanz\, 78462
CATEGORIES:Workshop
ORGANIZER;CN="VHS Landkreis Konstanz":MAILTO:meditz@vhs-landkreis-konstanz.de
END:VEVENT
END:VCALENDAR