BEGIN:VCALENDAR
VERSION:2.0
PRODID:-//Deutscher Weiterbildungstag - ECPv6.15.20//NONSGML v1.0//EN
CALSCALE:GREGORIAN
METHOD:PUBLISH
X-WR-CALNAME:Deutscher Weiterbildungstag
X-ORIGINAL-URL:https://deutscher-weiterbildungstag.de
X-WR-CALDESC:Veranstaltungen für Deutscher Weiterbildungstag
REFRESH-INTERVAL;VALUE=DURATION:PT1H
X-Robots-Tag:noindex
X-PUBLISHED-TTL:PT1H
BEGIN:VTIMEZONE
TZID:Europe/Berlin
BEGIN:DAYLIGHT
TZOFFSETFROM:+0100
TZOFFSETTO:+0200
TZNAME:CEST
DTSTART:20220327T010000
END:DAYLIGHT
BEGIN:STANDARD
TZOFFSETFROM:+0200
TZOFFSETTO:+0100
TZNAME:CET
DTSTART:20221030T010000
END:STANDARD
BEGIN:DAYLIGHT
TZOFFSETFROM:+0100
TZOFFSETTO:+0200
TZNAME:CEST
DTSTART:20230326T010000
END:DAYLIGHT
BEGIN:STANDARD
TZOFFSETFROM:+0200
TZOFFSETTO:+0100
TZNAME:CET
DTSTART:20231029T010000
END:STANDARD
BEGIN:DAYLIGHT
TZOFFSETFROM:+0100
TZOFFSETTO:+0200
TZNAME:CEST
DTSTART:20240331T010000
END:DAYLIGHT
BEGIN:STANDARD
TZOFFSETFROM:+0200
TZOFFSETTO:+0100
TZNAME:CET
DTSTART:20241027T010000
END:STANDARD
END:VTIMEZONE
BEGIN:VEVENT
DTSTART;TZID=Europe/Berlin:20230927T193000
DTEND;TZID=Europe/Berlin:20230927T210000
DTSTAMP:20260421T150725
CREATED:20230705T183850Z
LAST-MODIFIED:20230730T104526Z
UID:10000018-1695843000-1695848400@deutscher-weiterbildungstag.de
SUMMARY:Ulla Nedebock: Wie wir die Eltern werden\, die wir sein wollen
DESCRIPTION:Eine Kooperationsveranstaltung der vhs Landkreis Konstanz und der Stadtbibliothek Radolfzell \nMit dem Kind wachsen und sich gegenseitig vertrauen – Raus aus der „So wollte ich nie werden“ Falle\nUlla Nedebock© Ulla_Nedebock\nWas im Babyalter beginnt\, in der Trotzphase fordert\, sich durch die Schuljahre entwickelt\, in der Pubertät stresst\, hört nicht auf\, wenn das Kind auszieht. Familie ist etwas fürs ganze Leben. \nDeswegen kennen Eltern das ständige Zweifeln und Hinterfragen über Jahre: Weshalb regen mich manche Situationen mit meinem Kind maßlos auf? Warum benehme ich mich manchmal so im Familienalltag? Welche Rolle spielen wohl meine eigene Erziehung und mein Elternhaus dabei? Warum will ich manches unbedingt „besser“ machen? Was hat das alles mit meinen eigenen Prägungen und dem „inneren Kind“ zu tun? Und was bedeutet Erziehung eigentlichfür uns als Familie? Darum geht es an diesem lebendig gestalteten Abend. In ihrem Ratgeber bietet die Autorin fünf Bausteine\, um den Weg zum eigenen Erziehungsstil zu finden und souverän durch den Alltag zu kommen\, egal ob mit einem kleinen oder schon erwachsenen Kind. Dabei gilt es\, jedes Kind als einen besonderen Menschen anzunehmen\, Grenzen zu setzen\, Konflikte gut zu lösen und immer wieder für Vertrauen zu sorgen. Denn Eltern müssen mit ihren Kindern mitwachsen\, wenn sie die Herausforderung „Elternsein“ annehmen. Dann\, so die Autorin\, trägt und beglückt Familie heute und in Zukunft. \n\nKontakt\nvhs Landkreis Konstanz e. V.\nKirstin Meditz\n07531/5981-31\nE-Mail schreiben\nWebsite ansehen
URL:https://deutscher-weiterbildungstag.de/event/ulla-nedebock-wie-wir-die-eltern-werden-die-wir-sein-wollen
LOCATION:Stadtbibliothek Radolfzell\, Marktplatz 8\, Radolfzell am Bodensee\, 78315
CATEGORIES:Vortrag
ORGANIZER;CN="VHS Landkreis Konstanz":MAILTO:meditz@vhs-landkreis-konstanz.de
END:VEVENT
END:VCALENDAR