BEGIN:VCALENDAR
VERSION:2.0
PRODID:-//Deutscher Weiterbildungstag - ECPv6.15.20//NONSGML v1.0//EN
CALSCALE:GREGORIAN
METHOD:PUBLISH
X-ORIGINAL-URL:https://deutscher-weiterbildungstag.de
X-WR-CALDESC:Veranstaltungen für Deutscher Weiterbildungstag
REFRESH-INTERVAL;VALUE=DURATION:PT1H
X-Robots-Tag:noindex
X-PUBLISHED-TTL:PT1H
BEGIN:VTIMEZONE
TZID:Europe/Berlin
BEGIN:DAYLIGHT
TZOFFSETFROM:+0100
TZOFFSETTO:+0200
TZNAME:CEST
DTSTART:20240331T010000
END:DAYLIGHT
BEGIN:STANDARD
TZOFFSETFROM:+0200
TZOFFSETTO:+0100
TZNAME:CET
DTSTART:20241027T010000
END:STANDARD
BEGIN:DAYLIGHT
TZOFFSETFROM:+0100
TZOFFSETTO:+0200
TZNAME:CEST
DTSTART:20250330T010000
END:DAYLIGHT
BEGIN:STANDARD
TZOFFSETFROM:+0200
TZOFFSETTO:+0100
TZNAME:CET
DTSTART:20251026T010000
END:STANDARD
BEGIN:DAYLIGHT
TZOFFSETFROM:+0100
TZOFFSETTO:+0200
TZNAME:CEST
DTSTART:20260329T010000
END:DAYLIGHT
BEGIN:STANDARD
TZOFFSETFROM:+0200
TZOFFSETTO:+0100
TZNAME:CET
DTSTART:20261025T010000
END:STANDARD
END:VTIMEZONE
BEGIN:VEVENT
DTSTART;TZID=Europe/Berlin:20250914T080000
DTEND;TZID=Europe/Berlin:20250919T170000
DTSTAMP:20260422T120932
CREATED:20250810T154156Z
LAST-MODIFIED:20250826T130510Z
UID:10000412-1757836800-1758301200@deutscher-weiterbildungstag.de
SUMMARY:Beratung zur Aus- und Weiterbildung in der Pflege und Betreuung
DESCRIPTION:Sie überlegen\, eine Tätigkeit im Bereich Pflege zu übernehmen? Lassen Sie sich bei uns über Ihre Möglichkeiten beraten.
URL:https://deutscher-weiterbildungstag.de/event/beratung-zur-aus-und-weiterbildung-in-der-pflege-und-betreuung
LOCATION:Sprottauer Straße 1-3\, 32756 Detmold
ATTACH;FMTTYPE=image/jpeg:https://deutscher-weiterbildungstag.de/wp-content/uploads/2025/08/Logo8.jpeg
END:VEVENT
END:VCALENDAR