BEGIN:VCALENDAR
VERSION:2.0
PRODID:-//Deutscher Weiterbildungstag - ECPv6.15.20//NONSGML v1.0//EN
CALSCALE:GREGORIAN
METHOD:PUBLISH
X-ORIGINAL-URL:https://deutscher-weiterbildungstag.de
X-WR-CALDESC:Veranstaltungen für Deutscher Weiterbildungstag
REFRESH-INTERVAL;VALUE=DURATION:PT1H
X-Robots-Tag:noindex
X-PUBLISHED-TTL:PT1H
BEGIN:VTIMEZONE
TZID:Europe/Berlin
BEGIN:DAYLIGHT
TZOFFSETFROM:+0100
TZOFFSETTO:+0200
TZNAME:CEST
DTSTART:20240331T010000
END:DAYLIGHT
BEGIN:STANDARD
TZOFFSETFROM:+0200
TZOFFSETTO:+0100
TZNAME:CET
DTSTART:20241027T010000
END:STANDARD
BEGIN:DAYLIGHT
TZOFFSETFROM:+0100
TZOFFSETTO:+0200
TZNAME:CEST
DTSTART:20250330T010000
END:DAYLIGHT
BEGIN:STANDARD
TZOFFSETFROM:+0200
TZOFFSETTO:+0100
TZNAME:CET
DTSTART:20251026T010000
END:STANDARD
BEGIN:DAYLIGHT
TZOFFSETFROM:+0100
TZOFFSETTO:+0200
TZNAME:CEST
DTSTART:20260329T010000
END:DAYLIGHT
BEGIN:STANDARD
TZOFFSETFROM:+0200
TZOFFSETTO:+0100
TZNAME:CET
DTSTART:20261025T010000
END:STANDARD
END:VTIMEZONE
BEGIN:VEVENT
DTSTART;TZID=Europe/Berlin:20250915T080000
DTEND;TZID=Europe/Berlin:20250919T170000
DTSTAMP:20260422T134737
CREATED:20250810T154634Z
LAST-MODIFIED:20250826T130523Z
UID:10000413-1757923200-1758301200@deutscher-weiterbildungstag.de
SUMMARY:Beratung zu Umschulungen\, Qualifizierungen und Vorbereitung auf Externenprüfungen im gewerblich-technischen und kaufmännischen Bereich
DESCRIPTION:Sie interessieren sich für den technisch-gewerkblichen Bereich? Lassen Sie sich bei uns zu Umschulungsangeboten beraten.
URL:https://deutscher-weiterbildungstag.de/event/beratung-zu-umschulungen-qualifizierungen-und-vorbereitung-auf-externenpruefungen-im-gewerblich-technischen-und-kaufmaennischen-bereich
LOCATION:Ohmstraße 2\, 32758 Detmold
ATTACH;FMTTYPE=image/png:https://deutscher-weiterbildungstag.de/wp-content/uploads/2025/08/Logo2.png
ORGANIZER;CN="Berufsfortbildungswerk (bfw) Detmold":MAILTO:https://www.bfw.de/detmold
END:VEVENT
END:VCALENDAR