BEGIN:VCALENDAR
VERSION:2.0
PRODID:-//Deutscher Weiterbildungstag - ECPv6.15.20//NONSGML v1.0//EN
CALSCALE:GREGORIAN
METHOD:PUBLISH
X-WR-CALNAME:Deutscher Weiterbildungstag
X-ORIGINAL-URL:https://deutscher-weiterbildungstag.de
X-WR-CALDESC:Veranstaltungen für Deutscher Weiterbildungstag
REFRESH-INTERVAL;VALUE=DURATION:PT1H
X-Robots-Tag:noindex
X-PUBLISHED-TTL:PT1H
BEGIN:VTIMEZONE
TZID:Europe/Berlin
BEGIN:DAYLIGHT
TZOFFSETFROM:+0100
TZOFFSETTO:+0200
TZNAME:CEST
DTSTART:20240331T010000
END:DAYLIGHT
BEGIN:STANDARD
TZOFFSETFROM:+0200
TZOFFSETTO:+0100
TZNAME:CET
DTSTART:20241027T010000
END:STANDARD
BEGIN:DAYLIGHT
TZOFFSETFROM:+0100
TZOFFSETTO:+0200
TZNAME:CEST
DTSTART:20250330T010000
END:DAYLIGHT
BEGIN:STANDARD
TZOFFSETFROM:+0200
TZOFFSETTO:+0100
TZNAME:CET
DTSTART:20251026T010000
END:STANDARD
BEGIN:DAYLIGHT
TZOFFSETFROM:+0100
TZOFFSETTO:+0200
TZNAME:CEST
DTSTART:20260329T010000
END:DAYLIGHT
BEGIN:STANDARD
TZOFFSETFROM:+0200
TZOFFSETTO:+0100
TZNAME:CET
DTSTART:20261025T010000
END:STANDARD
END:VTIMEZONE
BEGIN:VEVENT
DTSTART;TZID=Europe/Berlin:20250916T080000
DTEND;TZID=Europe/Berlin:20250916T203000
DTSTAMP:20260422T170521
CREATED:20250810T155400Z
LAST-MODIFIED:20250826T130514Z
UID:10000418-1758009600-1758054600@deutscher-weiterbildungstag.de
SUMMARY:OneDrive - die Daten in der Cloud
DESCRIPTION:Hier erhalten Sie einen Einblick in den cloudbasierten Speicherdienst „OneDrive“ mit folgenden Inhalten: \n\neigene Dokumente in die Cloud laden\nOneDrive-App auf Computer und Mobilgerät installieren\nComputer & mobile Geräte synchronisieren\nDatenaustausch und Freigabe von Dokumenten und Ordnern\nOneDrive im Team nutzen\nOneDrive im Zusammenspiel mit Microsoft Office Apps\nTipps & Tricks\n\nDieses Angebot ist auch für potenzielle „Umsteiger“ älterer Office-Versionen geeignet oder auch für Interessierte\, die künftig sowohl mit der Online-App\, als auch weiterhin offline arbeiten möchten.
URL:https://deutscher-weiterbildungstag.de/event/onedrive-die-daten-in-der-cloud
LOCATION:Krumme Straße 20\, 3276 Detmold
ATTACH;FMTTYPE=image/png:https://deutscher-weiterbildungstag.de/wp-content/uploads/2025/08/Logo6.png
END:VEVENT
END:VCALENDAR