BEGIN:VCALENDAR
VERSION:2.0
PRODID:-//Deutscher Weiterbildungstag - ECPv6.15.20//NONSGML v1.0//EN
CALSCALE:GREGORIAN
METHOD:PUBLISH
X-ORIGINAL-URL:https://deutscher-weiterbildungstag.de
X-WR-CALDESC:Veranstaltungen für Deutscher Weiterbildungstag
REFRESH-INTERVAL;VALUE=DURATION:PT1H
X-Robots-Tag:noindex
X-PUBLISHED-TTL:PT1H
BEGIN:VTIMEZONE
TZID:Europe/Berlin
BEGIN:DAYLIGHT
TZOFFSETFROM:+0100
TZOFFSETTO:+0200
TZNAME:CEST
DTSTART:20220327T010000
END:DAYLIGHT
BEGIN:STANDARD
TZOFFSETFROM:+0200
TZOFFSETTO:+0100
TZNAME:CET
DTSTART:20221030T010000
END:STANDARD
BEGIN:DAYLIGHT
TZOFFSETFROM:+0100
TZOFFSETTO:+0200
TZNAME:CEST
DTSTART:20230326T010000
END:DAYLIGHT
BEGIN:STANDARD
TZOFFSETFROM:+0200
TZOFFSETTO:+0100
TZNAME:CET
DTSTART:20231029T010000
END:STANDARD
BEGIN:DAYLIGHT
TZOFFSETFROM:+0100
TZOFFSETTO:+0200
TZNAME:CEST
DTSTART:20240331T010000
END:DAYLIGHT
BEGIN:STANDARD
TZOFFSETFROM:+0200
TZOFFSETTO:+0100
TZNAME:CET
DTSTART:20241027T010000
END:STANDARD
END:VTIMEZONE
BEGIN:VEVENT
DTSTART;TZID=Europe/Berlin:20230926T090000
DTEND;TZID=Europe/Berlin:20230926T210000
DTSTAMP:20260419T214404
CREATED:20230730T184636Z
LAST-MODIFIED:20230813T154635Z
UID:10000046-1695718800-1695762000@deutscher-weiterbildungstag.de
SUMMARY:Mehrwert durch Bildung – Aktion am deutschen Weiterbildungstag
DESCRIPTION:Das Kolping Bildungswerk im Erzbistum Bamberg bietet allen Interessierten eine Weiterbildungsberatung an. Diese findet im Rahmen des Deutschen Weiterbildungstags am 26.9.2023 im Zeitraum von 09:00 – 21:00 statt. Interessierte können sich hier bei den Experten der Kolping Bildungszentren zu Ihren persönlichen Weiterbildungsmöglichkeiten und Fördermöglichkeiten beraten lassen. \nDie Beratung ist online oder in den Bildungszentren in \n\nAnsbach\nBamberg\nBayreuth\nNürnberg \nNeustadt/Aisch \n\nmöglich. \n\nAnmeldung\nVereinbaren Sie Ihren individuellen Termin: \n0951-51947-0 oder\nakademie@kolpingbildung.de \n\nKontakt\nKolping-Bildungswerk im Erzbistum Bamberg\nUlrich Drescher\, Michael Hambuch\n0951-51947-0\nakademie@kolpingbildung.de
URL:https://deutscher-weiterbildungstag.de/event/mehrwert-durch-bildung-aktion-am-deutschen-weiterbildungstag
LOCATION:Kolping-Bildungswerk im Erzbistum Bamberg\, Willy-Lessing-Str. 1\, Bamberg\, 96047
CATEGORIES:Beratung,Online-Event
ORGANIZER;CN="Kolping-Bildungswerk im Erzbistum Bamberg":MAILTO:akademie@kolpingbildung.de
END:VEVENT
END:VCALENDAR