BEGIN:VCALENDAR
VERSION:2.0
PRODID:-//Deutscher Weiterbildungstag - ECPv6.15.20//NONSGML v1.0//EN
CALSCALE:GREGORIAN
METHOD:PUBLISH
X-WR-CALNAME:Deutscher Weiterbildungstag
X-ORIGINAL-URL:https://deutscher-weiterbildungstag.de
X-WR-CALDESC:Veranstaltungen für Deutscher Weiterbildungstag
REFRESH-INTERVAL;VALUE=DURATION:PT1H
X-Robots-Tag:noindex
X-PUBLISHED-TTL:PT1H
BEGIN:VTIMEZONE
TZID:Europe/Berlin
BEGIN:DAYLIGHT
TZOFFSETFROM:+0100
TZOFFSETTO:+0200
TZNAME:CEST
DTSTART:20240331T010000
END:DAYLIGHT
BEGIN:STANDARD
TZOFFSETFROM:+0200
TZOFFSETTO:+0100
TZNAME:CET
DTSTART:20241027T010000
END:STANDARD
BEGIN:DAYLIGHT
TZOFFSETFROM:+0100
TZOFFSETTO:+0200
TZNAME:CEST
DTSTART:20250330T010000
END:DAYLIGHT
BEGIN:STANDARD
TZOFFSETFROM:+0200
TZOFFSETTO:+0100
TZNAME:CET
DTSTART:20251026T010000
END:STANDARD
BEGIN:DAYLIGHT
TZOFFSETFROM:+0100
TZOFFSETTO:+0200
TZNAME:CEST
DTSTART:20260329T010000
END:DAYLIGHT
BEGIN:STANDARD
TZOFFSETFROM:+0200
TZOFFSETTO:+0100
TZNAME:CET
DTSTART:20261025T010000
END:STANDARD
END:VTIMEZONE
BEGIN:VEVENT
DTSTART;TZID=Europe/Berlin:20250916T100000
DTEND;TZID=Europe/Berlin:20250916T160000
DTSTAMP:20260421T110012
CREATED:20250810T154753Z
LAST-MODIFIED:20250826T130514Z
UID:10000417-1758016800-1758038400@deutscher-weiterbildungstag.de
SUMMARY:Gründungsberatung für Frauen
DESCRIPTION:Sie überlegen schon länger\, ob eine Selbstständigkeit das Richtige für Sie ist? \nSie sind engagiert in Ihrer Familie und wollen mit einer Selbstständigkeit Beruf und Familie vereinbaren? \nSie haben schon konkrete Fragen zu einer Existenzgründung oder stehen noch ganz am Anfang der Planung? \nWir beraten Sie bei allen Fragen rund um die Gründung und unterstützen Sie bei der Erstellung eines Gründungskonzeptes!
URL:https://deutscher-weiterbildungstag.de/event/gruendungsberatung-fuer-frauen-2
LOCATION:Bad Meinberger Staße 1\, 32760 Detmold
ATTACH;FMTTYPE=image/jpeg:https://deutscher-weiterbildungstag.de/wp-content/uploads/2025/08/Logo7.jpeg
END:VEVENT
END:VCALENDAR