BEGIN:VCALENDAR
VERSION:2.0
PRODID:-//Deutscher Weiterbildungstag - ECPv6.15.20//NONSGML v1.0//EN
CALSCALE:GREGORIAN
METHOD:PUBLISH
X-ORIGINAL-URL:https://deutscher-weiterbildungstag.de
X-WR-CALDESC:Veranstaltungen für Deutscher Weiterbildungstag
REFRESH-INTERVAL;VALUE=DURATION:PT1H
X-Robots-Tag:noindex
X-PUBLISHED-TTL:PT1H
BEGIN:VTIMEZONE
TZID:Europe/Berlin
BEGIN:DAYLIGHT
TZOFFSETFROM:+0100
TZOFFSETTO:+0200
TZNAME:CEST
DTSTART:20220327T010000
END:DAYLIGHT
BEGIN:STANDARD
TZOFFSETFROM:+0200
TZOFFSETTO:+0100
TZNAME:CET
DTSTART:20221030T010000
END:STANDARD
BEGIN:DAYLIGHT
TZOFFSETFROM:+0100
TZOFFSETTO:+0200
TZNAME:CEST
DTSTART:20230326T010000
END:DAYLIGHT
BEGIN:STANDARD
TZOFFSETFROM:+0200
TZOFFSETTO:+0100
TZNAME:CET
DTSTART:20231029T010000
END:STANDARD
BEGIN:DAYLIGHT
TZOFFSETFROM:+0100
TZOFFSETTO:+0200
TZNAME:CEST
DTSTART:20240331T010000
END:DAYLIGHT
BEGIN:STANDARD
TZOFFSETFROM:+0200
TZOFFSETTO:+0100
TZNAME:CET
DTSTART:20241027T010000
END:STANDARD
END:VTIMEZONE
BEGIN:VEVENT
DTSTART;VALUE=DATE:20230926
DTEND;VALUE=DATE:20230927
DTSTAMP:20260421T145705
CREATED:20230914T203432Z
LAST-MODIFIED:20230920T160801Z
UID:10000243-1695686400-1695772799@deutscher-weiterbildungstag.de
SUMMARY:Elektro- und Informationstechnik B.Eng oder Wirtschaftsingenieurwesen B.Eng. studieren
DESCRIPTION:An der TH Aschaffenburg in der Fakultät Ingenieurwissenschaften hat man die Möglichkeit\, einen Bachelor of Engineering in „Elektro- und Informationstechnik“ oder „Wirtschaftsingenieurwesen“ zu erwerben. Auf der Webseite des zfh zum deutschen Weiterbildungstag (https://www.zfh.de/studium/fuer-interessierte/deutscher-weiterbildungstag) finden Interessierte eine Videopräsentation mit mehr Informationen zum Fernstudium. \n\nOnline informieren\nInformationen zu unseren Fernstudiengägnen finden Sie unter:\nhttps://www.zfh.de/studium/fuer-interessierte/deutscher-weiterbildungstag\nGern antworten wir Ihre Fragen auch telefonisch. \n\nKontakt\nTechnische Hochschule Aschaffenburg\, Fakultät Ingenieurwissenschaften\nStephanie Albert\n+49 6021/4206-511\n Stephanie.Albert@th-ab.de
URL:https://deutscher-weiterbildungstag.de/event/elektro-und-informationstechnik-b-eng-oder-wirtschaftsingenieurwesen-b-eng-studieren
LOCATION:Virtuell
CATEGORIES:Beratung,Info-Veranstaltung
ORGANIZER;CN="Technische Hochschule Aschaffenburg":MAILTO:Stephanie.Albert@th-ab.de
END:VEVENT
END:VCALENDAR