BEGIN:VCALENDAR
VERSION:2.0
PRODID:-//Deutscher Weiterbildungstag - ECPv6.15.20//NONSGML v1.0//EN
CALSCALE:GREGORIAN
METHOD:PUBLISH
X-ORIGINAL-URL:https://deutscher-weiterbildungstag.de
X-WR-CALDESC:Veranstaltungen für Deutscher Weiterbildungstag
REFRESH-INTERVAL;VALUE=DURATION:PT1H
X-Robots-Tag:noindex
X-PUBLISHED-TTL:PT1H
BEGIN:VTIMEZONE
TZID:Europe/Berlin
BEGIN:DAYLIGHT
TZOFFSETFROM:+0100
TZOFFSETTO:+0200
TZNAME:CEST
DTSTART:20220327T010000
END:DAYLIGHT
BEGIN:STANDARD
TZOFFSETFROM:+0200
TZOFFSETTO:+0100
TZNAME:CET
DTSTART:20221030T010000
END:STANDARD
BEGIN:DAYLIGHT
TZOFFSETFROM:+0100
TZOFFSETTO:+0200
TZNAME:CEST
DTSTART:20230326T010000
END:DAYLIGHT
BEGIN:STANDARD
TZOFFSETFROM:+0200
TZOFFSETTO:+0100
TZNAME:CET
DTSTART:20231029T010000
END:STANDARD
BEGIN:DAYLIGHT
TZOFFSETFROM:+0100
TZOFFSETTO:+0200
TZNAME:CEST
DTSTART:20240331T010000
END:DAYLIGHT
BEGIN:STANDARD
TZOFFSETFROM:+0200
TZOFFSETTO:+0100
TZNAME:CET
DTSTART:20241027T010000
END:STANDARD
END:VTIMEZONE
BEGIN:VEVENT
DTSTART;TZID=Europe/Berlin:20231005T160000
DTEND;TZID=Europe/Berlin:20231005T190000
DTSTAMP:20260421T151105
CREATED:20230730T110117Z
LAST-MODIFIED:20230823T102603Z
UID:10000079-1696521600-1696532400@deutscher-weiterbildungstag.de
SUMMARY:Weiterdenken.Weiterbilden! Wie Betriebs- und Personalräte die Zukunft der Arbeit gestalten
DESCRIPTION:Welche Hürden gibt es bei der beruflichen Weiterbildung? Wie können Mitarbeiter*innen motiviert und besser unterstützt werden?\nWelche Hürden gibt es bei der beruflichen Weiterbildung? Wie können Mitarbeiter*innen motiviert und besser unterstützt werden? Und welche Hebel in der betrieblichen Weiterbildung bieten die Möglichkeiten der gesetzlichen Mitbestimmung? \nIn unserer Onlineveranstaltung im Rahmen des Weiterbildungsmentor*innennetzwerk mendi.net von ver.di und dem IFTP besprechen wir diese Fragen und gehen auf konkrete Praxisbeispiele ein. Das tun wir mit spannenden Gästen: \n\nSerife Erol-Vogel forscht für die Hans-Böckler-Stiftung\, sie erklärt uns\, warum Betriebsräte wichtig für die Weiterbildung sind und was Mitarbeiter*innen von Weiterbildung abhält.\nIngo Röttger (Weiterbildungsmentor und Betriebsratsmitglied) teilt mit uns seine Erfahrungen aus der Dortmunder Energie- und Wasserversorgung. Sie fördern die Weiterbildungskultur im Betrieb\, indem sie z.B. Kolleg*innen motivieren und Strukturen verändern.\n\nNeuigkeiten und Informationen zum Projekt finden Sie auf unserer Webseite: www.verdi-mendi.net \nDas Projekt von ver.di und dem IFTP im bfw wird gefördert vom Bundesministerium für Bildung und Forschung. \n\nOnline-Veranstaltung\nDie Veranstaltung findet online mit WebEx by Cisco statt.\nBitte melden Sie sich an! \n\nKontakt\nProjekt mendi.net von ver.di und dem IFTP im bfw\nMichael Swoboda\n016093133536\nmendinet-verdi@bfw.de\nwww.verdi-mendi.net
URL:https://deutscher-weiterbildungstag.de/event/weiterdenken-weiterbilden-wie-betriebs-und-personalraete-die-zukunft-der-arbeit-gestalten
LOCATION:Virtuell
CATEGORIES:Online-Event,Workshop
ORGANIZER;CN="Projekt mendi.net von ver.di und dem IFTP im bfw":MAILTO:mendinet-verdi@bfw.de
END:VEVENT
END:VCALENDAR