BEGIN:VCALENDAR
VERSION:2.0
PRODID:-//Deutscher Weiterbildungstag - ECPv6.15.20//NONSGML v1.0//EN
CALSCALE:GREGORIAN
METHOD:PUBLISH
X-ORIGINAL-URL:https://deutscher-weiterbildungstag.de
X-WR-CALDESC:Veranstaltungen für Deutscher Weiterbildungstag
REFRESH-INTERVAL;VALUE=DURATION:PT1H
X-Robots-Tag:noindex
X-PUBLISHED-TTL:PT1H
BEGIN:VTIMEZONE
TZID:Europe/Berlin
BEGIN:DAYLIGHT
TZOFFSETFROM:+0100
TZOFFSETTO:+0200
TZNAME:CEST
DTSTART:20220327T010000
END:DAYLIGHT
BEGIN:STANDARD
TZOFFSETFROM:+0200
TZOFFSETTO:+0100
TZNAME:CET
DTSTART:20221030T010000
END:STANDARD
BEGIN:DAYLIGHT
TZOFFSETFROM:+0100
TZOFFSETTO:+0200
TZNAME:CEST
DTSTART:20230326T010000
END:DAYLIGHT
BEGIN:STANDARD
TZOFFSETFROM:+0200
TZOFFSETTO:+0100
TZNAME:CET
DTSTART:20231029T010000
END:STANDARD
BEGIN:DAYLIGHT
TZOFFSETFROM:+0100
TZOFFSETTO:+0200
TZNAME:CEST
DTSTART:20240331T010000
END:DAYLIGHT
BEGIN:STANDARD
TZOFFSETFROM:+0200
TZOFFSETTO:+0100
TZNAME:CET
DTSTART:20241027T010000
END:STANDARD
END:VTIMEZONE
BEGIN:VEVENT
DTSTART;TZID=Europe/Berlin:20230926T090000
DTEND;TZID=Europe/Berlin:20230926T170000
DTSTAMP:20260421T123244
CREATED:20230730T101849Z
LAST-MODIFIED:20230920T162440Z
UID:10000065-1695718800-1695747600@deutscher-weiterbildungstag.de
SUMMARY:Bildungsberatung: Mut zum Weiterbilden auf Masterniveau – mit oder ohne Abi/ Bachelor
DESCRIPTION:Sie möchten sich weiterbilden\, wissen aber nicht\, wie sie es angehen sollen?\nWir beraten Sie gern und zeigen Ihnen Wege – auch unserer Studierenden und Alumni. \nDie Graduate School Rhein-Neckar bietet anlässlich des deutschen Weiterbildungstages eine Bildungsberatung über verschiedene Kanäle an. Schwerpunkte der betreffenden Fernstudiengänge liegen in Digital Finance\, Strategie & Accounting\, internationaler BWL und der Unternehmensführung. Auf der Webseite des zfh zum deutschen Weiterbildungstag (https://www.zfh.de/studium/fuer-interessierte/deutscher-weiterbildungstag) finden Sie noch mehr Informationen. \nVia Chat\, Telefon und ZOOM (12:30 – 13:30 Uhr + 17:00 – 18:00 Uhr) geben wir Ihnen Tipps aus unserer langjährigen (eigenen) Erfahrung in hochschulischer Weiterbildung. Ob es um die zeitliche Machbarkeit oder die Finanzierung geht\, oder um den für Sie geeigneten Studiengang. Wir geben Ihnen persönlich und ehrlich Orientierung. Denn zufriedene Studierende sind die besten Botschafter für das lebenslange Lernen. \nIn unseren Zertifikaten und Studiengängen bringen wir Themen der Betriebswirtschaft wie Agile Management Methoden\, Unternehmensführung\, Personalmanagement\, Marketing\, Logistik zusammen mit Informatik\, Medizin\, Psychologie. Digitalisierung\, New Work und viele neuen Ansätze unserer Zeit werden hier vertieft und ihre Anwendung diskutiert und geübt. In Kooperation mit der Hochschule für Wirtschaft und Gesellschaft Ludwigshafen sowie Hochschule Mannheim. \n\nVeranstaltung per Chat\, Telefon oder Online\nPer Telefon oder Chat können Sie uns von 09:00 bus 17:00 Uhr erreichen.\n0621 595728-0\nwww.gsrn.de \nPer  ZOOM erreichen Sie uns: \nvon 12:30 bis 13:00 Uhr oder\nvon 17:00 bis 18:00 Uhr\nüber diesen Link: www.bit.ly/gsrn-weiterbilden \n\nKontakt\nGraduate School Rhein-Neckar gGmbH\nIris Zimmermann\n0621 595728-0\ninfo@gsrn.de
URL:https://deutscher-weiterbildungstag.de/event/bildungsberatung-mut-zum-weiterbilden-auf-masterniveau-mit-oder-ohne-abi-bachelor
LOCATION:Virtuell
CATEGORIES:Beratung,Online-Event
ATTACH;FMTTYPE=image/jpeg:https://deutscher-weiterbildungstag.de/wp-content/uploads/2023/08/gsrn.jpg
ORGANIZER;CN="Graduate School Rhein-Neckar gGmbH":MAILTO:info@gsrn.de
END:VEVENT
END:VCALENDAR