BEGIN:VCALENDAR
VERSION:2.0
PRODID:-//Deutscher Weiterbildungstag - ECPv6.15.20//NONSGML v1.0//EN
CALSCALE:GREGORIAN
METHOD:PUBLISH
X-WR-CALNAME:Deutscher Weiterbildungstag
X-ORIGINAL-URL:https://deutscher-weiterbildungstag.de
X-WR-CALDESC:Veranstaltungen für Deutscher Weiterbildungstag
REFRESH-INTERVAL;VALUE=DURATION:PT1H
X-Robots-Tag:noindex
X-PUBLISHED-TTL:PT1H
BEGIN:VTIMEZONE
TZID:Europe/Berlin
BEGIN:DAYLIGHT
TZOFFSETFROM:+0100
TZOFFSETTO:+0200
TZNAME:CEST
DTSTART:20220327T010000
END:DAYLIGHT
BEGIN:STANDARD
TZOFFSETFROM:+0200
TZOFFSETTO:+0100
TZNAME:CET
DTSTART:20221030T010000
END:STANDARD
BEGIN:DAYLIGHT
TZOFFSETFROM:+0100
TZOFFSETTO:+0200
TZNAME:CEST
DTSTART:20230326T010000
END:DAYLIGHT
BEGIN:STANDARD
TZOFFSETFROM:+0200
TZOFFSETTO:+0100
TZNAME:CET
DTSTART:20231029T010000
END:STANDARD
BEGIN:DAYLIGHT
TZOFFSETFROM:+0100
TZOFFSETTO:+0200
TZNAME:CEST
DTSTART:20240331T010000
END:DAYLIGHT
BEGIN:STANDARD
TZOFFSETFROM:+0200
TZOFFSETTO:+0100
TZNAME:CET
DTSTART:20241027T010000
END:STANDARD
END:VTIMEZONE
BEGIN:VEVENT
DTSTART;TZID=Europe/Berlin:20230926T160000
DTEND;TZID=Europe/Berlin:20230926T173000
DTSTAMP:20260422T121301
CREATED:20230730T043611Z
LAST-MODIFIED:20230913T165202Z
UID:10000054-1695744000-1695749400@deutscher-weiterbildungstag.de
SUMMARY:Karrierewege in Pflege\, Pädagogik und Gesundheitswesen
DESCRIPTION:Die Gemeinnützige Gesellschaft für soziale Dienste – DAA – mbH (GGSD) informiert in einer Online-Veranstaltung über Karrierewege und Berufsperspektiven in sozialen und pflegerischen Berufen. Drei Expert*innen der GGSD zeigen in jeweils 30minütigen Präsentationen aktuelle Weiterbildungs- und Studienmöglichkeiten auf\, wie sie die GGSD bayernweit anbietet. \nDie Angebote der GGSD vermitteln Fachkräften berufsbegleitend und auf familienfreundliche Weise das nötige Know-how\, um in ihrem Berufsfeld auf der Höhe der Zeit zu bleiben und sich Wissen anzueignen\, das ihr berufliches Profil schärft und sie auch für Leitungsaufgaben qualifiziert. Während der Veranstaltung können im Chat individuelle Fragen geklärt werden. \n\nProgramm\n16:00 Uhr:\nVielfältige Berufsperspektiven in der Pflege (Günther Heil. GGSD Referent Pflege) \n16:30 Uhr:\nEntwicklungs- und Aufstiegsmöglichkeiten im Berufsfeld Pädagogik (Astrid Kleisinger\, GGSD Referentin Pädagogik) \n17:00 Uhr:\nKarrierechancen im Sozial- und Gesundheitswesen durch ein Fernstudium (Dr. Robert Kilian\, Leiter GGSD Studienzentrum München der Hamburger Fern-Hochschule (HFH)) \n\nSo nehmen Sie teil\nDie Infoveranstaltung findet online über Adobe Connect statt. Bitte melden Sie sich ca. 10 bis 15 Minuten vor Beginn als Gast mit Ihrem Namen an. Wenn Sie nur ein bestimmtes Themenfeld interessiert (s. Programm)\, können Sie gerne im Laufe der Veranstaltung hinzukommen. \nNutzen Sie diesen Link:\nhttps://ggsd.adobeconnect.com/weiterbildungstag \nHinweis:\nWenn Sie per Tablet oder Smartphone teilnehmen möchten\, empfehlen wir Ihnen vorab den Download der Adobe Connect – App über Ihren APP- bzw. PLAY-STORE. \n\nKontakt\nGemeinnützige Gesellschaft für soziale Dienste – DAA – mbH\nGünther Heil\n0911 891907-17\nguenther.heil@ggsd.de
URL:https://deutscher-weiterbildungstag.de/event/karrierewege-in-pflege-paedagogik-und-gesundheitswesen
LOCATION:Virtuell
CATEGORIES:Info-Veranstaltung,Online-Event
ATTACH;FMTTYPE=image/jpeg:https://deutscher-weiterbildungstag.de/wp-content/uploads/2023/07/AdobeStock_108625174.jpg
ORGANIZER;CN="Gemeinn%C3%BCtzige Gesellschaft f%C3%BCr soziale Dienste %E2%80%93 DAA %E2%80%93 mbH":MAILTO:guenther.heil@ggsd.de
END:VEVENT
END:VCALENDAR