BEGIN:VCALENDAR
VERSION:2.0
PRODID:-//Deutscher Weiterbildungstag - ECPv6.15.20//NONSGML v1.0//EN
CALSCALE:GREGORIAN
METHOD:PUBLISH
X-WR-CALNAME:Deutscher Weiterbildungstag
X-ORIGINAL-URL:https://deutscher-weiterbildungstag.de
X-WR-CALDESC:Veranstaltungen für Deutscher Weiterbildungstag
REFRESH-INTERVAL;VALUE=DURATION:PT1H
X-Robots-Tag:noindex
X-PUBLISHED-TTL:PT1H
BEGIN:VTIMEZONE
TZID:Europe/Berlin
BEGIN:DAYLIGHT
TZOFFSETFROM:+0100
TZOFFSETTO:+0200
TZNAME:CEST
DTSTART:20220327T010000
END:DAYLIGHT
BEGIN:STANDARD
TZOFFSETFROM:+0200
TZOFFSETTO:+0100
TZNAME:CET
DTSTART:20221030T010000
END:STANDARD
BEGIN:DAYLIGHT
TZOFFSETFROM:+0100
TZOFFSETTO:+0200
TZNAME:CEST
DTSTART:20230326T010000
END:DAYLIGHT
BEGIN:STANDARD
TZOFFSETFROM:+0200
TZOFFSETTO:+0100
TZNAME:CET
DTSTART:20231029T010000
END:STANDARD
BEGIN:DAYLIGHT
TZOFFSETFROM:+0100
TZOFFSETTO:+0200
TZNAME:CEST
DTSTART:20240331T010000
END:DAYLIGHT
BEGIN:STANDARD
TZOFFSETFROM:+0200
TZOFFSETTO:+0100
TZNAME:CET
DTSTART:20241027T010000
END:STANDARD
END:VTIMEZONE
BEGIN:VEVENT
DTSTART;TZID=Europe/Berlin:20230928T090000
DTEND;TZID=Europe/Berlin:20230928T100000
DTSTAMP:20260421T121537
CREATED:20230730T103011Z
LAST-MODIFIED:20230906T094947Z
UID:10000098-1695891600-1695895200@deutscher-weiterbildungstag.de
SUMMARY:Wer soll das bezahlen? Wir bringen Klarheit in den Dschungel Deiner Weiterbildungs-Fördermöglichkeiten
DESCRIPTION:Im Rahmen des Deutschen Weiterbildungstages informieren wir Dich über die verschiedenen Fördermöglichkeiten Deiner Weiterbildung sowie zu den finanziellen Vorteilen und Rabatten bei GARP an zwei Online-Infoveranstaltungen – am 20.09. und am 28.09.2023. \nWir machen Dir die Antragsstellung so einfach wie möglich und beantworten Fragen rund um Antragfsformulare und Antragsstellen. \nZusätzlicher Vorteil:\nWir gewähren vom 20.09 bis 28.09. bei Buchung einer Weiterbildung einen Rabatt von 5 % auf die Kursgebühren (nicht kombinierbar mit ESF-geförderten Kursen).\nGib den Code „Deutscher Weiterbildungstag“ bei der Buchung an. \n\nOnline-Veranstaltung\nDie Veranstaltung findet online mit Microsoft-Teams statt.\nWeitere Informationen und den Link erhältst Du kurz vor der Veranstaltung.\nBitte melde Dich an\, damit wir Dir den Link zuschicken können. \n\nKontakt\nGARP Bildungszentrum e.V.\nJanine Kraus\n07153 8305-0\nkraus@garp.de
URL:https://deutscher-weiterbildungstag.de/event/wer-soll-das-bezahlen-klarheit-zu-weiterbildungs-und-foerdermoeglichkeiten-2
LOCATION:Virtuell
CATEGORIES:Info-Veranstaltung,Online-Event,Rabattaktion
ORGANIZER;CN="GARP Bildungszentrum e.V.":MAILTO:kraus@garp.de
END:VEVENT
BEGIN:VEVENT
DTSTART;TZID=Europe/Berlin:20230920T170000
DTEND;TZID=Europe/Berlin:20230920T180000
DTSTAMP:20260421T121537
CREATED:20230730T101845Z
LAST-MODIFIED:20230905T133725Z
UID:10000078-1695229200-1695232800@deutscher-weiterbildungstag.de
SUMMARY:Wer soll das bezahlen? Wir bringen Klarheit in den Dschungel Deiner Weiterbildungs-Fördermöglichkeiten
DESCRIPTION:Im Rahmen des Deutschen Weiterbildungstages informieren wir Dich über die verschiedenen Fördermöglichkeiten Deiner Weiterbildung sowie zu den finanziellen Vorteilen und Rabatten bei GARP an zwei Online-Infoveranstaltungen – am 20.09. und am 28.09.2023. \nWir machen Dir die Antragsstellung so einfach wie möglich und beantworten Fragen rund um Antragfsformulare und Antragsstellen. \nZusätzlicher Vorteil:\nWir gewähren vom 20.09 bis 28.09. bei Buchung einer Weiterbildung einen Rabatt von 5 % auf die Kursgebühren (nicht kombinierbar mit ESF-geförderten Kursen).\nGib den Code „Deutscher Weiterbildungstag“ bei der Buchung an. \n\nOnline-Veranstaltung\nDie Veranstaltung findet online mit Microsoft-Teams statt.\nWeitere Informationen und den Link erhältst Du kurz vor der Veranstaltung.\nBitte melde Dich an\, damit wir Dir den Link zuschicken können. \n\nKontakt\nGARP Bildungszentrum e.V.\nJanine Kraus\n07153 8305-0\nkraus@garp.de
URL:https://deutscher-weiterbildungstag.de/event/wer-soll-das-bezahlen-klarheit-zu-weiterbildungs-und-foerdermoeglichkeiten
LOCATION:Virtuell
CATEGORIES:Info-Veranstaltung,Online-Event,Rabattaktion
ORGANIZER;CN="GARP Bildungszentrum e.V.":MAILTO:kraus@garp.de
END:VEVENT
END:VCALENDAR