BEGIN:VCALENDAR
VERSION:2.0
PRODID:-//Deutscher Weiterbildungstag - ECPv6.15.20//NONSGML v1.0//EN
CALSCALE:GREGORIAN
METHOD:PUBLISH
X-ORIGINAL-URL:https://deutscher-weiterbildungstag.de
X-WR-CALDESC:Veranstaltungen für Deutscher Weiterbildungstag
REFRESH-INTERVAL;VALUE=DURATION:PT1H
X-Robots-Tag:noindex
X-PUBLISHED-TTL:PT1H
BEGIN:VTIMEZONE
TZID:Europe/Berlin
BEGIN:DAYLIGHT
TZOFFSETFROM:+0100
TZOFFSETTO:+0200
TZNAME:CEST
DTSTART:20220327T010000
END:DAYLIGHT
BEGIN:STANDARD
TZOFFSETFROM:+0200
TZOFFSETTO:+0100
TZNAME:CET
DTSTART:20221030T010000
END:STANDARD
BEGIN:DAYLIGHT
TZOFFSETFROM:+0100
TZOFFSETTO:+0200
TZNAME:CEST
DTSTART:20230326T010000
END:DAYLIGHT
BEGIN:STANDARD
TZOFFSETFROM:+0200
TZOFFSETTO:+0100
TZNAME:CET
DTSTART:20231029T010000
END:STANDARD
BEGIN:DAYLIGHT
TZOFFSETFROM:+0100
TZOFFSETTO:+0200
TZNAME:CEST
DTSTART:20240331T010000
END:DAYLIGHT
BEGIN:STANDARD
TZOFFSETFROM:+0200
TZOFFSETTO:+0100
TZNAME:CET
DTSTART:20241027T010000
END:STANDARD
END:VTIMEZONE
BEGIN:VEVENT
DTSTART;TZID=Europe/Berlin:20230926T170000
DTEND;TZID=Europe/Berlin:20230926T180000
DTSTAMP:20260421T134834
CREATED:20230911T090951Z
LAST-MODIFIED:20230920T162351Z
UID:10000227-1695747600-1695751200@deutscher-weiterbildungstag.de
SUMMARY:Individuelle und berufsbegleitende Weiterbildung – Einzelmodule\, Hochschulzertifikat oder Master
DESCRIPTION:Im Rahmen des Veranstaltungsprogramms im zfh-Verbund lädt die ed-media e.V. zur Online-Informationsveranstaltung mit dem Titel „Individuelle und berufbegleitende Weiterbildung – Einzelmodule\, Hochschulzertifikat oder Master“ ein. \nEine Übersicht über das gesamten Veranstaltungsprogramm im Rahmen des zfh-Verbundes kann unter „https://www.zfh.de/studium/fuer-interessierte/deutscher-weiterbildungstag/“ eingesehen werden. \n\nOnline-Event\nDie Veranstaltung findet online in Zoom statt.\nNehmen Sie teil unter:\nhttps://us02web.zoom.us/j/81092669350?pwd=aUVoQm1ta09JaXFOWmF4MXJsd3o0Zz09  \n\nKontakt\ned-media.e.V.\nMartina Fremgen\n+49 631 3724 5509\nmartina.fremgen@hs-kl.de\nhttps://ed-media.org
URL:https://deutscher-weiterbildungstag.de/event/individuelle-und-berufsbegleitende-weiterbildung-einzelmodule-hochschulzertifikat-oder-master
LOCATION:Virtuell
CATEGORIES:Info-Veranstaltung,Online-Event
ORGANIZER;CN="ed-media.e.V.":MAILTO:martina.fremgen@hs-kl.de
END:VEVENT
END:VCALENDAR