BEGIN:VCALENDAR
VERSION:2.0
PRODID:-//Deutscher Weiterbildungstag - ECPv6.15.20//NONSGML v1.0//EN
CALSCALE:GREGORIAN
METHOD:PUBLISH
X-ORIGINAL-URL:https://deutscher-weiterbildungstag.de
X-WR-CALDESC:Veranstaltungen für Deutscher Weiterbildungstag
REFRESH-INTERVAL;VALUE=DURATION:PT1H
X-Robots-Tag:noindex
X-PUBLISHED-TTL:PT1H
BEGIN:VTIMEZONE
TZID:Europe/Berlin
BEGIN:DAYLIGHT
TZOFFSETFROM:+0100
TZOFFSETTO:+0200
TZNAME:CEST
DTSTART:20220327T010000
END:DAYLIGHT
BEGIN:STANDARD
TZOFFSETFROM:+0200
TZOFFSETTO:+0100
TZNAME:CET
DTSTART:20221030T010000
END:STANDARD
BEGIN:DAYLIGHT
TZOFFSETFROM:+0100
TZOFFSETTO:+0200
TZNAME:CEST
DTSTART:20230326T010000
END:DAYLIGHT
BEGIN:STANDARD
TZOFFSETFROM:+0200
TZOFFSETTO:+0100
TZNAME:CET
DTSTART:20231029T010000
END:STANDARD
BEGIN:DAYLIGHT
TZOFFSETFROM:+0100
TZOFFSETTO:+0200
TZNAME:CEST
DTSTART:20240331T010000
END:DAYLIGHT
BEGIN:STANDARD
TZOFFSETFROM:+0200
TZOFFSETTO:+0100
TZNAME:CET
DTSTART:20241027T010000
END:STANDARD
END:VTIMEZONE
BEGIN:VEVENT
DTSTART;TZID=Europe/Berlin:20230926T120000
DTEND;TZID=Europe/Berlin:20230926T133000
DTSTAMP:20260421T133703
CREATED:20230916T190844Z
LAST-MODIFIED:20230916T191418Z
UID:10000249-1695729600-1695735000@deutscher-weiterbildungstag.de
SUMMARY:Future-Proofing 2.0: Nachhaltigkeit\, Digitalisierung und Metaverse im Fokus
DESCRIPTION:Im Rahmen des Deutschen Weiterbildungstages 2023 laden das Bildungsökosystem Nordwest\, die IHK Oldenburg und das Mittelstand-Digital Zentrum Bremen-Oldenburg zu einer spannenden und interaktiven Veranstaltung im Metaverse ein. \nDieses Event richtet sich an alle\, die den Leitsatz „Wer über Nachhaltigkeit spricht\, spricht über Digitalisierung“ nicht nur als Motto\, sondern als konkrete Handlungsanweisung begreifen. Wenn Sie die Digitalisierung als Schlüssel zu nachhaltigem Wirtschaften sehen und sich fragen\, wie Sie diese Transformation in Ihrem Unternehmen konkret umsetzen können\, dann ist dieses Event genau das Richtige für Sie. \nLassen Sie sich von Tobias Hoiten\, einem Experten auf dem Gebiet der Nachhaltigkeitsberichterstattung für KMU\, inspirieren. Er wird Ihnen nicht nur die Grundlagen vermitteln\, sondern auch praxisnahe Handlungsempfehlungen geben\, die Sie in den kommenden Jahren umsetzen können. \nErleben Sie im Metaverse\, wie Digitalisierung nicht nur greifbar\, sondern auch produktiv und nachhaltig gestaltet wird. In diesem interaktiven Rahmen haben Sie die Möglichkeit\, Theorie in die Praxis umzusetzen. Arbeiten Sie an realen Projekten\, die speziell auf die Bedürfnisse Ihres Unternehmens zugeschnitten sind. Nutzen Sie diese einzigartige Gelegenheit\, um die neuesten digitalen Werkzeuge in einem sicheren und kollaborativen Umfeld auszuprobieren! \nWas erwartet Sie?\nKick-Off & Metaverse Tour\nTauchen Sie ein in die digitale Welt und erkunden Sie unser innovatives Bildungsökosystem im Metaverse. \nKeynote von Tobias Hoiten\, OFFIS\nAb 2024 wird EU-Recht zu nationalem Recht\, und die Berichtspflicht für Nachhaltigkeit wird Realität. Aktuell betrifft das nur große Aktiengesellschaften\, aber ab 2028 sind alle KMUs dran. Ein absolutes Must-Know für jedes Unternehmen!\nErfahren Sie\, warum die Nachhaltigkeitsberichterstattung ein Game-Changer für alle Unternehmen ist und was das für Sie bedeutet. \nCo-Creation Workshop\nArbeiten Sie in interaktiven Gruppen an Zukunftsthemen wie GreenTech & KI\, dem Metaverse als Lernraum und der Berichtspflicht als Innovationsmotor. \nWrap-Up & Networking\nLassen Sie den Metaverse-Tag mit einem kurzen Rückblick und einer Networking-Session ausklingen. \nNutzen Sie die Gelegenheit\, sich mit Gleichgesinnten zu vernetzen\, von Experten zu lernen und aktiv an der Gestaltung der digitalen Zukunft teilzunehmen. \nWir freuen uns auf Sie! \n\nOnline-Veranstaltung\nDie Veranstaltung von Bildungsökosystem Nordwest findet online statt.  Nutzen Sie den folgenden Link für die Teilnahme:\nhttps://www.spatial.io/s/NORDBEAT-IHK-Oldenburg-63eca3a622ea084543a35e01?share=4921589203955759905 \n\nKontakt\nBildungsökosystem Nordwest\nPeter Grünheid\n0174 3892491\npeter.gruenheid@bnw.de\nwww.bildungsoekosystem-nordwest.de
URL:https://deutscher-weiterbildungstag.de/event/future-proofing-2-0-nachhaltigkeit-digitalisierung-und-metaverse-im-fokus
LOCATION:Virtuell
CATEGORIES:Fachkonferenz
ORGANIZER;CN="Bildungs%C3%B6kosystem Nordwest":MAILTO:alberring@emsachse.de
END:VEVENT
BEGIN:VEVENT
DTSTART;TZID=Europe/Berlin:20230926T100000
DTEND;TZID=Europe/Berlin:20230926T120000
DTSTAMP:20260421T133703
CREATED:20230913T163920Z
LAST-MODIFIED:20230913T163920Z
UID:10000231-1695722400-1695729600@deutscher-weiterbildungstag.de
SUMMARY:
DESCRIPTION:Der Stammtisch Weiterbildung Nordwest trifft sich regelmäßig\, um über die Zukunft der beruflichen Bildung im Nordwesten zu sprechen. Eingeladen sind alle\, die sich für dieses Thema interessieren. \nIm Zuge des diesjährigen deutschen Weiterbildungstages am 26.09. laden wir zu einem ganz besonderen Stammtisch Weiterbildung Nordwest ein: \nWir treffen uns dieses Mal bei der VHS in Papenburg und lernen diesen spannenden Bildungsträger aus erster Hand kennen. \nTino Boubaris vom Verein Niedersächsischer Bildungsinitiativen e.V. wird uns zudem zeigen\, wie Design Thinking für Bildungsträger funktionieren kann und wie sie dieses Werkzeug für den Alltag nutzen können. \nAußerdem wird es vor Ort die Möglichkeit geben\, VR-Brillen auszuprobieren\, um auch für dieses Tool ein Gefühl zu bekommen\, wie es ggfs. in Zukunft von und für Weiterbildungsakteuren genutzt werden kann. \n\nAnmeldung\nSie möchten dabei sein?\nDann melden Sie sich bitte hier bis zum 14.09.2023 via Forms an:\nhttps://forms.office.com/e/VFDxAWWSS5 \n\nKontakt\nBildungsökosystem Nordwest\nWilko Alberring\n04961 940 998 27\nalberring@emsachse.de
URL:https://deutscher-weiterbildungstag.de/event/19055
LOCATION:VHS Papenburg\, Hauptkanal Rechts 72\, Papenburg\, 26871\, Deutschland
CATEGORIES:Stammtisch
ORGANIZER;CN="Bildungs%C3%B6kosystem Nordwest":MAILTO:alberring@emsachse.de
END:VEVENT
END:VCALENDAR