BEGIN:VCALENDAR
VERSION:2.0
PRODID:-//Deutscher Weiterbildungstag - ECPv6.15.20//NONSGML v1.0//EN
CALSCALE:GREGORIAN
METHOD:PUBLISH
X-WR-CALNAME:Deutscher Weiterbildungstag
X-ORIGINAL-URL:https://deutscher-weiterbildungstag.de
X-WR-CALDESC:Veranstaltungen für Deutscher Weiterbildungstag
REFRESH-INTERVAL;VALUE=DURATION:PT1H
X-Robots-Tag:noindex
X-PUBLISHED-TTL:PT1H
BEGIN:VTIMEZONE
TZID:Europe/Berlin
BEGIN:DAYLIGHT
TZOFFSETFROM:+0100
TZOFFSETTO:+0200
TZNAME:CEST
DTSTART:20220327T010000
END:DAYLIGHT
BEGIN:STANDARD
TZOFFSETFROM:+0200
TZOFFSETTO:+0100
TZNAME:CET
DTSTART:20221030T010000
END:STANDARD
BEGIN:DAYLIGHT
TZOFFSETFROM:+0100
TZOFFSETTO:+0200
TZNAME:CEST
DTSTART:20230326T010000
END:DAYLIGHT
BEGIN:STANDARD
TZOFFSETFROM:+0200
TZOFFSETTO:+0100
TZNAME:CET
DTSTART:20231029T010000
END:STANDARD
BEGIN:DAYLIGHT
TZOFFSETFROM:+0100
TZOFFSETTO:+0200
TZNAME:CEST
DTSTART:20240331T010000
END:DAYLIGHT
BEGIN:STANDARD
TZOFFSETFROM:+0200
TZOFFSETTO:+0100
TZNAME:CET
DTSTART:20241027T010000
END:STANDARD
BEGIN:DAYLIGHT
TZOFFSETFROM:+0100
TZOFFSETTO:+0200
TZNAME:CEST
DTSTART:20250330T010000
END:DAYLIGHT
BEGIN:STANDARD
TZOFFSETFROM:+0200
TZOFFSETTO:+0100
TZNAME:CET
DTSTART:20251026T010000
END:STANDARD
BEGIN:DAYLIGHT
TZOFFSETFROM:+0100
TZOFFSETTO:+0200
TZNAME:CEST
DTSTART:20260329T010000
END:DAYLIGHT
BEGIN:STANDARD
TZOFFSETFROM:+0200
TZOFFSETTO:+0100
TZNAME:CET
DTSTART:20261025T010000
END:STANDARD
END:VTIMEZONE
BEGIN:VEVENT
DTSTART;TZID=Europe/Berlin:20250918T160000
DTEND;TZID=Europe/Berlin:20250918T173000
DTSTAMP:20260421T110156
CREATED:20250821T113854Z
LAST-MODIFIED:20250821T113854Z
UID:10000457-1758211200-1758216600@deutscher-weiterbildungstag.de
SUMMARY:Seiteneinstieg ins Lehramt
DESCRIPTION:Nicht nur aufgrund der starken Nachfrage nach weiteren Lehrkräften\, interessieren sich immer mehr Erwerbstätige für den Seiteneinstieg in den Lehrerberuf. Die Veranstaltung findet in Kooperation mit dem Landesprüfungsamt NRW statt und gibt einen Überblick\, wie ein Seiteneinstieg realisiert werden kann. Darüber hinaus werden fachnahe Berufe in der Lehre und Ausbildung als mögliche Alternativen vorgestellt.
URL:https://deutscher-weiterbildungstag.de/event/seiteneinstieg-ins-lehramt
LOCATION:Online
CATEGORIES:Vortrag
ORGANIZER;CN="Agentur f%C3%BCr Arbeit OWL & Holzminden":MAILTO:Paderborn.beruflichezukunft@arbeitsagentur.de
END:VEVENT
BEGIN:VEVENT
DTSTART;TZID=Europe/Berlin:20230926T100000
DTEND;TZID=Europe/Berlin:20230926T120000
DTSTAMP:20260421T110156
CREATED:20230730T103515Z
LAST-MODIFIED:20230906T123958Z
UID:10000125-1695722400-1695729600@deutscher-weiterbildungstag.de
SUMMARY:Besser spät als nie—Berufsabschluss nachholen
DESCRIPTION:Berufsberatung im Erwerbsleben für die Arbeitsmarktregion Ostwestfalen-Lippe und Holzminden\nDer Bedarf an Fachkräften nimmt bundesweit stetig zu. Wer Berufserfahrung hat\, allerdings noch keine abgeschlossene Ausbildung\, kann einen Berufsabschluss jederzeit nachholen. Im Rahmen dieser Veranstaltung werden verschiedene Wege zum nachträglichen Erwerb eines Berufsabschlusses sowie deren Finanzierungsmöglichkeiten vorgestellt. Ergänzend wird aufgezeigt\, wie ein Berufsabschluss innerhalb eines laufenden Beschäftigungsverhältnisses realisiert werden kann. Die Teilnehmenden erhalten darüber hinaus erste Tipps und Hilfestellungen zur beruflichen Neuorientierung. Es gibt danach die Möglichkeit\, Fragen zu stellen und Kontaktdaten für eine individuelle Beratung zu erhalten. Die Veranstaltung findet digital statt und ist kostenfrei. \n\nOnlineveranstaltung\nDie Veranstaltung findet online per Skype statt.\nBitte melden Sie sich an unter Tel. 05251 120 777. \n\nKontakt\nAgentur für Arbeit OWL & Holzminden\nTeam BBiE der Agentur für Arbeit\n05251 120 777\nPaderborn.beruflichezukunft@arbeitsagentur.de
URL:https://deutscher-weiterbildungstag.de/event/besser-spaet-als-nie-berufsabschluss-nachholen
LOCATION:Virtuell
CATEGORIES:Beratung,Online-Event
ORGANIZER;CN="Agentur f%C3%BCr Arbeit OWL & Holzminden":MAILTO:Paderborn.beruflichezukunft@arbeitsagentur.de
END:VEVENT
END:VCALENDAR